BEGIN:VCALENDAR
VERSION:2.0
PRODID:-//Laura Escuela - ECPv5.3.0//NONSGML v1.0//EN
CALSCALE:GREGORIAN
METHOD:PUBLISH
X-WR-CALNAME:Laura Escuela
X-ORIGINAL-URL:https://lauraescuela.com
X-WR-CALDESC:Eventos para Laura Escuela
BEGIN:VTIMEZONE
TZID:UTC
BEGIN:STANDARD
TZOFFSETFROM:+0000
TZOFFSETTO:+0000
TZNAME:UTC
DTSTART:20220101T000000
END:STANDARD
END:VTIMEZONE
BEGIN:VEVENT
DTSTART;TZID=UTC:20221020T053000
DTEND;TZID=UTC:20221020T180000
DTSTAMP:20260425T212335
CREATED:20220925T200635Z
LAST-MODIFIED:20220930T091500Z
UID:4518-1666243800-1666288800@lauraescuela.com
SUMMARY:Bebecuentos BPE
DESCRIPTION:Sesión de Bebecuentos “AL VUELO” en la Biblioteca Pública del Estado en Santa Cruz de Tenerife \n\n\n\nInscripciones a través de cuestionario de inscripción cuando se publique en las redes de la Biblioteca\, el día 5 de octubre
URL:https://lauraescuela.com/agenda/bebecuentos-bpe-8/
ATTACH;FMTTYPE=image/png:https://lauraescuela.com/wp-content/uploads/2022/09/Al-vuelo-BPE.png
END:VEVENT
BEGIN:VEVENT
DTSTART;TZID=UTC:20221020T080000
DTEND;TZID=UTC:20221020T170000
DTSTAMP:20260425T212335
CREATED:20221010T075145Z
LAST-MODIFIED:20221010T075148Z
UID:4550-1666252800-1666285200@lauraescuela.com
SUMMARY:Festival Cuéntame\, Fasnia
DESCRIPTION:El día 20 de octubre participaré en la II Edición del Festival Cuéntame\, Fasnia\, contando a público escolar de infantil y primer ciclo en el CEO GUAJARA. ¡Qué bien!
URL:https://lauraescuela.com/agenda/festival-cuentame-fasnia/
ATTACH;FMTTYPE=image/jpeg:https://lauraescuela.com/wp-content/uploads/2022/10/WhatsApp-Image-2022-10-07-at-12.31.11.jpeg
END:VEVENT
END:VCALENDAR