BEGIN:VCALENDAR
VERSION:2.0
PRODID:-//Laura Escuela - ECPv5.3.0//NONSGML v1.0//EN
CALSCALE:GREGORIAN
METHOD:PUBLISH
X-WR-CALNAME:Laura Escuela
X-ORIGINAL-URL:https://lauraescuela.com
X-WR-CALDESC:Eventos para Laura Escuela
BEGIN:VTIMEZONE
TZID:UTC
BEGIN:STANDARD
TZOFFSETFROM:+0000
TZOFFSETTO:+0000
TZNAME:UTC
DTSTART:20230101T000000
END:STANDARD
END:VTIMEZONE
BEGIN:VEVENT
DTSTART;TZID=UTC:20230303T053000
DTEND;TZID=UTC:20230303T181500
DTSTAMP:20260425T142711
CREATED:20230220T100344Z
LAST-MODIFIED:20230220T100345Z
UID:4920-1677821400-1677867300@lauraescuela.com
SUMMARY:Bebecuentos Arafo
DESCRIPTION:INSCRIPCIONES ABIERTAS
URL:https://lauraescuela.com/agenda/bebecuentos-arafo/
ATTACH;FMTTYPE=image/png:https://lauraescuela.com/wp-content/uploads/2023/02/¡AL-MERCADO-12.png
END:VEVENT
END:VCALENDAR