BEGIN:VCALENDAR
VERSION:2.0
PRODID:-//Laura Escuela - ECPv5.3.0//NONSGML v1.0//EN
CALSCALE:GREGORIAN
METHOD:PUBLISH
X-WR-CALNAME:Laura Escuela
X-ORIGINAL-URL:https://lauraescuela.com
X-WR-CALDESC:Eventos para Laura Escuela
BEGIN:VTIMEZONE
TZID:UTC
BEGIN:STANDARD
TZOFFSETFROM:+0000
TZOFFSETTO:+0000
TZNAME:UTC
DTSTART:20240101T000000
END:STANDARD
END:VTIMEZONE
BEGIN:VEVENT
DTSTART;TZID=UTC:20241119T080000
DTEND;TZID=UTC:20241120T170000
DTSTAMP:20260424T092235
CREATED:20241027T182133Z
LAST-MODIFIED:20241027T182134Z
UID:5639-1732003200-1732122000@lauraescuela.com
SUMMARY:Ciclo de cuentos Colegios de Tegueste
DESCRIPTION:Sesiones de cuentos para escolares de Educación Infantil en los cuatro colegios de TEGUESTE para celebrar el DÍA DE LA INFANCIA.
URL:https://lauraescuela.com/agenda/ciclo-de-cuentos-colegios-de-tegueste/
END:VEVENT
BEGIN:VEVENT
DTSTART;TZID=UTC:20241120T080000
DTEND;TZID=UTC:20241120T170000
DTSTAMP:20260424T092235
CREATED:20241027T183020Z
LAST-MODIFIED:20241027T183021Z
UID:5651-1732089600-1732122000@lauraescuela.com
SUMMARY:Presentación del libro "Ya llegaste\, bebé"
DESCRIPTION:Presentación del libro “Ya llegaste\, bebé” en la Biblioteca de la Zona Joven de Puntalarga.  \n\n\n\nEscrito por mí\, ilustrado por Alicia Borges\, un regalo para todos los bebés que nazcan en el municipio de Candelaria.
URL:https://lauraescuela.com/agenda/presentacion-del-libro-ya-llegaste-bebe/
END:VEVENT
END:VCALENDAR