BEGIN:VCALENDAR
VERSION:2.0
PRODID:-//Laura Escuela - ECPv5.3.0//NONSGML v1.0//EN
CALSCALE:GREGORIAN
METHOD:PUBLISH
X-WR-CALNAME:Laura Escuela
X-ORIGINAL-URL:https://lauraescuela.com
X-WR-CALDESC:Eventos para Laura Escuela
BEGIN:VTIMEZONE
TZID:UTC
BEGIN:STANDARD
TZOFFSETFROM:+0000
TZOFFSETTO:+0000
TZNAME:UTC
DTSTART:20250101T000000
END:STANDARD
END:VTIMEZONE
BEGIN:VEVENT
DTSTART;TZID=UTC:20250213T080000
DTEND;TZID=UTC:20250213T170000
DTSTAMP:20260424T045257
CREATED:20250202T204749Z
LAST-MODIFIED:20250202T204750Z
UID:5687-1739433600-1739466000@lauraescuela.com
SUMMARY:Encuentro Alegando CEIP Aneja
DESCRIPTION:Narración de cuentos para primaria y secundaria dentro de la jornada ALEGANDO sobre radio escolar que organiza el CEIP ANEJA\, La Laguna.
URL:https://lauraescuela.com/agenda/encuentro-alegando-ceip-aneja/
END:VEVENT
END:VCALENDAR