BEGIN:VCALENDAR
VERSION:2.0
PRODID:-//Laura Escuela - ECPv5.3.0//NONSGML v1.0//EN
CALSCALE:GREGORIAN
METHOD:PUBLISH
X-WR-CALNAME:Laura Escuela
X-ORIGINAL-URL:https://lauraescuela.com
X-WR-CALDESC:Eventos para Laura Escuela
BEGIN:VTIMEZONE
TZID:UTC
BEGIN:STANDARD
TZOFFSETFROM:+0000
TZOFFSETTO:+0000
TZNAME:UTC
DTSTART:20250101T000000
END:STANDARD
END:VTIMEZONE
BEGIN:VEVENT
DTSTART;TZID=UTC:20250403T193000
DTEND;TZID=UTC:20250403T203000
DTSTAMP:20260424T015051
CREATED:20250327T120753Z
LAST-MODIFIED:20250327T120755Z
UID:5692-1743708600-1743712200@lauraescuela.com
SUMMARY:Palabras El Paso\, cuentos para público adulto
DESCRIPTION:
URL:https://lauraescuela.com/agenda/palabras-el-paso-cuentos-para-publico-adulto/
END:VEVENT
END:VCALENDAR