BEGIN:VCALENDAR
VERSION:2.0
PRODID:-//Laura Escuela - ECPv5.3.0//NONSGML v1.0//EN
CALSCALE:GREGORIAN
METHOD:PUBLISH
X-WR-CALNAME:Laura Escuela
X-ORIGINAL-URL:https://lauraescuela.com
X-WR-CALDESC:Eventos para Laura Escuela
BEGIN:VTIMEZONE
TZID:UTC
BEGIN:STANDARD
TZOFFSETFROM:+0000
TZOFFSETTO:+0000
TZNAME:UTC
DTSTART:20250101T000000
END:STANDARD
END:VTIMEZONE
BEGIN:VEVENT
DTSTART;TZID=UTC:20251115T100000
DTEND;TZID=UTC:20251115T140000
DTSTAMP:20260423T153013
CREATED:20251031T100000Z
LAST-MODIFIED:20251031T133936Z
UID:5828-1763200800-1763215200@lauraescuela.com
SUMMARY:CONTAR LA MUERTE. Taller presencial en Candelaria
DESCRIPTION:Taller dirigido a madres\, padres y educadoras que quieran acercarse al diálogo sobre este tema con la infancia.
URL:https://lauraescuela.com/agenda/contar-la-muerte-taller-presencial-en-candelaria/
END:VEVENT
END:VCALENDAR