BEGIN:VCALENDAR
VERSION:2.0
PRODID:-//Laura Escuela - ECPv5.3.0//NONSGML v1.0//EN
CALSCALE:GREGORIAN
METHOD:PUBLISH
X-WR-CALNAME:Laura Escuela
X-ORIGINAL-URL:https://lauraescuela.com
X-WR-CALDESC:Eventos para Laura Escuela
BEGIN:VTIMEZONE
TZID:UTC
BEGIN:STANDARD
TZOFFSETFROM:+0000
TZOFFSETTO:+0000
TZNAME:UTC
DTSTART:20250101T000000
END:STANDARD
END:VTIMEZONE
BEGIN:VEVENT
DTSTART;TZID=UTC:20251119T080000
DTEND;TZID=UTC:20251119T170000
DTSTAMP:20260423T152812
CREATED:20251031T132707Z
LAST-MODIFIED:20251031T132709Z
UID:5833-1763539200-1763571600@lauraescuela.com
SUMMARY:THE BRAVE SQUIRREL en Fuerteventura
DESCRIPTION:Sesión escolar de THE BRAVE SQUIRREL en el marco del FESTIVAL LA OLIVA CUENTA.
URL:https://lauraescuela.com/agenda/the-brave-squirrel-en-fuerteventura/
END:VEVENT
END:VCALENDAR