BEGIN:VCALENDAR
VERSION:2.0
PRODID:-//Laura Escuela - ECPv5.3.0//NONSGML v1.0//EN
CALSCALE:GREGORIAN
METHOD:PUBLISH
X-WR-CALNAME:Laura Escuela
X-ORIGINAL-URL:https://lauraescuela.com
X-WR-CALDESC:Eventos para Laura Escuela
BEGIN:VTIMEZONE
TZID:UTC
BEGIN:STANDARD
TZOFFSETFROM:+0000
TZOFFSETTO:+0000
TZNAME:UTC
DTSTART:20260101T000000
END:STANDARD
END:VTIMEZONE
BEGIN:VEVENT
DTSTART;TZID=UTC:20260319T080000
DTEND;TZID=UTC:20260320T170000
DTSTAMP:20260421T113114
CREATED:20260226T173325Z
LAST-MODIFIED:20260226T173327Z
UID:5905-1773907200-1774026000@lauraescuela.com
SUMMARY:Festival LABRAPALABRA. Gran Canaria
DESCRIPTION:Narración Oral en Arucas junto a Pablo Albo dirigida a público adulto y público familiar.
URL:https://lauraescuela.com/agenda/festival-labrapalabra-gran-canaria/
END:VEVENT
BEGIN:VEVENT
DTSTART;TZID=UTC:20260320T170000
DTEND;TZID=UTC:20260320T180000
DTSTAMP:20260421T113114
CREATED:20260226T173529Z
LAST-MODIFIED:20260226T173542Z
UID:5909-1774026000-1774029600@lauraescuela.com
SUMMARY:Dedos que cantan El Sol. Biblioteca de Ofra.
DESCRIPTION:Sesión de cuentos inclusiva junto a Silvia Rumeu.
URL:https://lauraescuela.com/agenda/dedos-que-cantan-el-sol-biblitoeca-de-ofra/
END:VEVENT
BEGIN:VEVENT
DTSTART;TZID=UTC:20260320T200000
DTEND;TZID=UTC:20260320T210000
DTSTAMP:20260421T113114
CREATED:20260226T173420Z
LAST-MODIFIED:20260226T173421Z
UID:5907-1774036800-1774040400@lauraescuela.com
SUMMARY:AEDA. 20M. Fundación Cajacanarias
DESCRIPTION:
URL:https://lauraescuela.com/agenda/aeda-20m-fundacion-cajacanarias/
END:VEVENT
END:VCALENDAR