BEGIN:VCALENDAR
VERSION:2.0
PRODID:-//Laura Escuela - ECPv5.3.0//NONSGML v1.0//EN
CALSCALE:GREGORIAN
METHOD:PUBLISH
X-WR-CALNAME:Laura Escuela
X-ORIGINAL-URL:https://lauraescuela.com
X-WR-CALDESC:Eventos para Laura Escuela
BEGIN:VTIMEZONE
TZID:UTC
BEGIN:STANDARD
TZOFFSETFROM:+0000
TZOFFSETTO:+0000
TZNAME:UTC
DTSTART:20260101T000000
END:STANDARD
END:VTIMEZONE
BEGIN:VEVENT
DTSTART;TZID=UTC:20260321T110000
DTEND;TZID=UTC:20260321T110000
DTSTAMP:20260421T113027
CREATED:20260226T173609Z
LAST-MODIFIED:20260302T181214Z
UID:5912-1774090800-1774090800@lauraescuela.com
SUMMARY:Bebecuentos y Pequecuentos Candelaria
DESCRIPTION:
URL:https://lauraescuela.com/agenda/bebecuentos-y-pequecuentos-candelaria-2/
END:VEVENT
END:VCALENDAR