BEGIN:VCALENDAR
VERSION:2.0
PRODID:-//Laura Escuela - ECPv5.3.0//NONSGML v1.0//EN
CALSCALE:GREGORIAN
METHOD:PUBLISH
X-WR-CALNAME:Laura Escuela
X-ORIGINAL-URL:https://lauraescuela.com
X-WR-CALDESC:Eventos para Laura Escuela
BEGIN:VTIMEZONE
TZID:UTC
BEGIN:STANDARD
TZOFFSETFROM:+0000
TZOFFSETTO:+0000
TZNAME:UTC
DTSTART:20260101T000000
END:STANDARD
END:VTIMEZONE
BEGIN:VEVENT
DTSTART;TZID=UTC:20260407T080000
DTEND;TZID=UTC:20260407T170000
DTSTAMP:20260420T091542
CREATED:20260331T153249Z
LAST-MODIFIED:20260331T153251Z
UID:5926-1775548800-1775581200@lauraescuela.com
SUMMARY:Dedos que cantan EL SOL en Añaza
DESCRIPTION:
URL:https://lauraescuela.com/agenda/dedos-que-cantan-el-sol-en-anaza/
ATTACH;FMTTYPE=image/jpeg:https://lauraescuela.com/wp-content/uploads/2026/03/El-Sol-Anaza-7-abril.jpg
END:VEVENT
BEGIN:VEVENT
DTSTART;TZID=UTC:20260409T080000
DTEND;TZID=UTC:20260410T170000
DTSTAMP:20260420T091542
CREATED:20260331T154246Z
LAST-MODIFIED:20260331T154326Z
UID:5929-1775721600-1775840400@lauraescuela.com
SUMMARY:Taller "Cuentos que cuentan la muerte" en CONGRESO PALIATIVOS PEDIÁTRICOS
DESCRIPTION:
URL:https://lauraescuela.com/agenda/taller-cuentos-que-cuentan-la-muerte-en-congreso-paliativos-pediatricos/
ATTACH;FMTTYPE=image/png:https://lauraescuela.com/wp-content/uploads/2026/03/2026-PEDPAL-MICROSITE-_cartel.png
END:VEVENT
BEGIN:VEVENT
DTSTART;TZID=UTC:20260411T110000
DTEND;TZID=UTC:20260411T110000
DTSTAMP:20260420T091542
CREATED:20260331T154430Z
LAST-MODIFIED:20260331T154433Z
UID:5932-1775905200-1775905200@lauraescuela.com
SUMMARY:Contata para piano. Fundación Cajacanarias.
DESCRIPTION:Contata para Piano
URL:https://lauraescuela.com/agenda/contata-para-piano-fundacion-cajacanarias-2/
END:VEVENT
BEGIN:VEVENT
DTSTART;TZID=UTC:20260413T080000
DTEND;TZID=UTC:20260413T170000
DTSTAMP:20260420T091542
CREATED:20260331T154550Z
LAST-MODIFIED:20260331T154552Z
UID:5934-1776067200-1776099600@lauraescuela.com
SUMMARY:Cuentos bilingües en San Andrés y Sauces. LA PALMA.
DESCRIPTION:Sesiones escolares en inglés y español en la BIBLIOTECA PÚBLICA DE SAN ANDRÉS Y SAUCES
URL:https://lauraescuela.com/agenda/cuentos-bilingues-en-san-andres-y-sauces-la-palma/
END:VEVENT
BEGIN:VEVENT
DTSTART;TZID=UTC:20260414T180000
DTEND;TZID=UTC:20260414T190000
DTSTAMP:20260420T091542
CREATED:20260331T154841Z
LAST-MODIFIED:20260331T161551Z
UID:5936-1776189600-1776193200@lauraescuela.com
SUMMARY:Bebecuentos. Feria del libro de TACORONTE. Librería Más que papel
DESCRIPTION:Sesión de BEBECUENTOS en Librería Más que papel. “De la rama al cielo”.
URL:https://lauraescuela.com/agenda/bebecuentos-feria-del-libro-de-tacoronte-libreria-mas-que-papel/
ATTACH;FMTTYPE=image/jpeg:https://lauraescuela.com/wp-content/uploads/2026/03/IMG-20260331-WA0022.jpg
END:VEVENT
BEGIN:VEVENT
DTSTART;TZID=UTC:20260415T080000
DTEND;TZID=UTC:20260415T170000
DTSTAMP:20260420T091542
CREATED:20260331T154913Z
LAST-MODIFIED:20260331T154915Z
UID:5938-1776240000-1776272400@lauraescuela.com
SUMMARY:Sesiones escolares CEIP SAMOGA
DESCRIPTION:
URL:https://lauraescuela.com/agenda/sesiones-escolares-ceip-samoga/
END:VEVENT
BEGIN:VEVENT
DTSTART;TZID=UTC:20260415T150000
DTEND;TZID=UTC:20260415T170000
DTSTAMP:20260420T091542
CREATED:20260331T154947Z
LAST-MODIFIED:20260331T154949Z
UID:5940-1776265200-1776272400@lauraescuela.com
SUMMARY:Formación al profesorado "Contar la muerte".
DESCRIPTION:
URL:https://lauraescuela.com/agenda/formacion-al-profesorado-contar-la-muerte/
END:VEVENT
BEGIN:VEVENT
DTSTART;TZID=UTC:20260416T180000
DTEND;TZID=UTC:20260416T190000
DTSTAMP:20260420T091542
CREATED:20260331T155056Z
LAST-MODIFIED:20260331T161642Z
UID:5942-1776362400-1776366000@lauraescuela.com
SUMMARY:Sesión de cuentos en familia. FERIA DEL LIBRO DE TACORONTE. Librería Tacoronte Center
DESCRIPTION:
URL:https://lauraescuela.com/agenda/sesion-de-cuentos-en-familia-feria-del-libro-de-tacoronte-libreria-tacoronte-center/
ATTACH;FMTTYPE=image/jpeg:https://lauraescuela.com/wp-content/uploads/2026/03/IMG-20260331-WA0022.jpg
END:VEVENT
BEGIN:VEVENT
DTSTART;TZID=UTC:20260417T053000
DTEND;TZID=UTC:20260417T190000
DTSTAMP:20260420T091542
CREATED:20260331T155807Z
LAST-MODIFIED:20260331T155809Z
UID:5944-1776403800-1776452400@lauraescuela.com
SUMMARY:Taller Cuando la muerte vino a nuestra casa. Biblioteca TEA.
DESCRIPTION:
URL:https://lauraescuela.com/agenda/taller-cuando-la-muerte-vino-a-nuestra-casa-biblioteca-tea/
ATTACH;FMTTYPE=image/png:https://lauraescuela.com/wp-content/uploads/2026/03/Copia-de-Copia-de-Cuando-la-muerte-Video-para-moviles.png
END:VEVENT
BEGIN:VEVENT
DTSTART;TZID=UTC:20260418T110000
DTEND;TZID=UTC:20260418T120000
DTSTAMP:20260420T091542
CREATED:20260331T155939Z
LAST-MODIFIED:20260331T155942Z
UID:5947-1776510000-1776513600@lauraescuela.com
SUMMARY:Bebecuentos en LEELIJ. Icod de los Vinos.
DESCRIPTION:Sesión de Bebecuentos en LEELIJ\, SALÓN DEL LIBRO INFANTIL Y JUVENIL 2026. BIBLIOTECA MUNICIPAL DE ICOD DE LOS VINOS
URL:https://lauraescuela.com/agenda/bebecuentos-en-leelij-icod-de-los-vinos/
END:VEVENT
BEGIN:VEVENT
DTSTART;TZID=UTC:20260419T110000
DTEND;TZID=UTC:20260419T110000
DTSTAMP:20260420T091542
CREATED:20260331T160030Z
LAST-MODIFIED:20260331T160032Z
UID:5949-1776596400-1776596400@lauraescuela.com
SUMMARY:Bebecuentos en FESTIVAL ÉRASE. Los Realejos
DESCRIPTION:2 sesiones de Bebecuentos dentro de la programación del FESTIVAL ÉRASE. Los Realejos.
URL:https://lauraescuela.com/agenda/bebecuentos-en-festival-erase-los-realejos/
END:VEVENT
BEGIN:VEVENT
DTSTART;TZID=UTC:20260420T080000
DTEND;TZID=UTC:20260420T170000
DTSTAMP:20260420T091542
CREATED:20260331T160134Z
LAST-MODIFIED:20260331T160136Z
UID:5951-1776672000-1776704400@lauraescuela.com
SUMMARY:Bebecuentos Escuela infantil Adeje
DESCRIPTION:
URL:https://lauraescuela.com/agenda/bebecuentos-escuela-infantil-adeje/
END:VEVENT
BEGIN:VEVENT
DTSTART;TZID=UTC:20260421T080000
DTEND;TZID=UTC:20260424T170000
DTSTAMP:20260420T091542
CREATED:20260331T160811Z
LAST-MODIFIED:20260331T160813Z
UID:5953-1776758400-1777050000@lauraescuela.com
SUMMARY:Sesiones escolares Cuando los libros florecen en Santa Cruz de La Palma
DESCRIPTION:
URL:https://lauraescuela.com/agenda/sesiones-escolares-cuando-los-libros-florecen-en-santa-cruz-de-la-palma/
ATTACH;FMTTYPE=image/png:https://lauraescuela.com/wp-content/uploads/2026/03/Colorido-Huellas-de-Manos-Ninos-Cita-Educacion-Poster.png
END:VEVENT
BEGIN:VEVENT
DTSTART;TZID=UTC:20260423T190000
DTEND;TZID=UTC:20260423T200000
DTSTAMP:20260420T091542
CREATED:20260331T160854Z
LAST-MODIFIED:20260331T160856Z
UID:5956-1776970800-1776974400@lauraescuela.com
SUMMARY:Día del libro en San Andrés y Sauces
DESCRIPTION:Sesión de cuentos para público familiar
URL:https://lauraescuela.com/agenda/dia-del-libro-en-san-andres-y-sauces/
END:VEVENT
BEGIN:VEVENT
DTSTART;TZID=UTC:20260426T130000
DTEND;TZID=UTC:20260426T140000
DTSTAMP:20260420T091542
CREATED:20260331T160940Z
LAST-MODIFIED:20260331T160942Z
UID:5958-1777208400-1777212000@lauraescuela.com
SUMMARY:Cuentos y música en Feria del libro de LA MATANZA
DESCRIPTION:
URL:https://lauraescuela.com/agenda/cuentos-y-musica-en-feria-del-libro-de-la-matanza/
END:VEVENT
BEGIN:VEVENT
DTSTART;TZID=UTC:20260427T080000
DTEND;TZID=UTC:20260427T170000
DTSTAMP:20260420T091542
CREATED:20260331T161044Z
LAST-MODIFIED:20260331T161046Z
UID:5960-1777276800-1777309200@lauraescuela.com
SUMMARY:Cuando los cuentos florecen en Santa Cruz de La Palma
DESCRIPTION:
URL:https://lauraescuela.com/agenda/cuando-los-cuentos-florecen-en-santa-cruz-de-la-palma/
END:VEVENT
BEGIN:VEVENT
DTSTART;TZID=UTC:20260429T080000
DTEND;TZID=UTC:20260429T170000
DTSTAMP:20260420T091542
CREATED:20260331T161116Z
LAST-MODIFIED:20260331T161118Z
UID:5962-1777449600-1777482000@lauraescuela.com
SUMMARY:Sesiones escolares CEIP Maximiliano Gil
DESCRIPTION:
URL:https://lauraescuela.com/agenda/sesiones-escolares-ceip-maximiliano-gil/
END:VEVENT
BEGIN:VEVENT
DTSTART;TZID=UTC:20260430T080000
DTEND;TZID=UTC:20260430T170000
DTSTAMP:20260420T091542
CREATED:20260331T161140Z
LAST-MODIFIED:20260331T161142Z
UID:5964-1777536000-1777568400@lauraescuela.com
SUMMARY:Sesiones escolares Colegio Dominicas Vistabella
DESCRIPTION:
URL:https://lauraescuela.com/agenda/sesiones-escolares-colegio-dominicas-vistabella/
END:VEVENT
END:VCALENDAR