BEGIN:VCALENDAR
VERSION:2.0
PRODID:-//Laura Escuela - ECPv5.3.0//NONSGML v1.0//EN
CALSCALE:GREGORIAN
METHOD:PUBLISH
X-WR-CALNAME:Laura Escuela
X-ORIGINAL-URL:https://lauraescuela.com
X-WR-CALDESC:Eventos para Laura Escuela
BEGIN:VTIMEZONE
TZID:UTC
BEGIN:STANDARD
TZOFFSETFROM:+0000
TZOFFSETTO:+0000
TZNAME:UTC
DTSTART:20190101T000000
END:STANDARD
END:VTIMEZONE
BEGIN:VEVENT
DTSTART;TZID=UTC:20191129T173000
DTEND;TZID=UTC:20191129T183000
DTSTAMP:20260420T155114
CREATED:20191028T191206Z
LAST-MODIFIED:20191030T132403Z
UID:2915-1575048600-1575052200@lauraescuela.com
SUMMARY:Adivina y te cuento. TEA.
DESCRIPTION:Sesión de cuentos y música en la que los cuentos se contarán a partir del juego con adivinanzas\, retahílas y trabalenguas. Una sesión lúdica\, dinámica y participativa en la que jugaremos con las palabras y disfrutaremos de historias sorprendentes.  \n\n\n\n\n\n\n\nSesión de cuentos para familias con niños y niñas a partir de 3 añosEntrada libre. No precisa inscripción
URL:https://lauraescuela.com/agenda/adivina-y-te-cuento-tea/
LOCATION:Biblioteca Municipal Central (TEA)\, Fuente Morales\, s/n\, Santa Cruz de Tenerife\, 38003\, España
ATTACH;FMTTYPE=image/jpeg:https://lauraescuela.com/wp-content/uploads/2019/10/Cuentos_Familia_Central_29_nov-002-1.jpg
END:VEVENT
END:VCALENDAR