BEGIN:VCALENDAR
VERSION:2.0
PRODID:-//Laura Escuela - ECPv5.3.0//NONSGML v1.0//EN
CALSCALE:GREGORIAN
METHOD:PUBLISH
X-WR-CALNAME:Laura Escuela
X-ORIGINAL-URL:https://lauraescuela.com
X-WR-CALDESC:Eventos para Laura Escuela
BEGIN:VTIMEZONE
TZID:UTC
BEGIN:STANDARD
TZOFFSETFROM:+0000
TZOFFSETTO:+0000
TZNAME:UTC
DTSTART:20200101T000000
END:STANDARD
END:VTIMEZONE
BEGIN:VEVENT
DTSTART;TZID=UTC:20200109T160000
DTEND;TZID=UTC:20200109T170000
DTSTAMP:20260423T182533
CREATED:20200101T121840Z
LAST-MODIFIED:20200101T121841Z
UID:3060-1578585600-1578589200@lauraescuela.com
SUMMARY:Asamblea AEDA
DESCRIPTION:Asamblea anual de la Asociación de Profesionales de la Narración Oral en España en Azuqueca de Henares.
URL:https://lauraescuela.com/agenda/asamblea-aeda/
END:VEVENT
END:VCALENDAR