BEGIN:VCALENDAR
VERSION:2.0
PRODID:-//Laura Escuela - ECPv5.3.0//NONSGML v1.0//EN
CALSCALE:GREGORIAN
METHOD:PUBLISH
X-WR-CALNAME:Laura Escuela
X-ORIGINAL-URL:https://lauraescuela.com
X-WR-CALDESC:Eventos para Laura Escuela
BEGIN:VTIMEZONE
TZID:UTC
BEGIN:STANDARD
TZOFFSETFROM:+0000
TZOFFSETTO:+0000
TZNAME:UTC
DTSTART:20220101T000000
END:STANDARD
END:VTIMEZONE
BEGIN:VEVENT
DTSTART;TZID=UTC:20220516T180000
DTEND;TZID=UTC:20220516T190000
DTSTAMP:20260421T100248
CREATED:20220427T102313Z
LAST-MODIFIED:20220502T113522Z
UID:4244-1652724000-1652727600@lauraescuela.com
SUMMARY:Bebecuentos Adeje
DESCRIPTION:Bebecuentos ¡AL MERCADO! en Adeje. INSCRIPCIONES ABIERTAS \n\n\n\nhttps://www.adeje.es/bibliotecas/eventos/17978-bebecuentos-al-mercado-con-laura-escuela
URL:https://lauraescuela.com/agenda/bebecuentos-adeje-4/
END:VEVENT
END:VCALENDAR