BEGIN:VCALENDAR
VERSION:2.0
PRODID:-//Laura Escuela - ECPv5.3.0//NONSGML v1.0//EN
CALSCALE:GREGORIAN
METHOD:PUBLISH
X-WR-CALNAME:Laura Escuela
X-ORIGINAL-URL:https://lauraescuela.com
X-WR-CALDESC:Eventos para Laura Escuela
BEGIN:VTIMEZONE
TZID:UTC
BEGIN:STANDARD
TZOFFSETFROM:+0000
TZOFFSETTO:+0000
TZNAME:UTC
DTSTART:20200101T000000
END:STANDARD
END:VTIMEZONE
BEGIN:VEVENT
DTSTART;TZID=UTC:20200613T110000
DTEND;TZID=UTC:20200613T233000
DTSTAMP:20260419T150006
CREATED:20200529T171407Z
LAST-MODIFIED:20200601T121454Z
UID:3302-1592046000-1592091000@lauraescuela.com
SUMMARY:BEBECUENTOS Arrecife (FB LIVE)
DESCRIPTION:Sesión de Bebecuentos RETAHÍLA en directo a través de Facebook.  \n\n\n\nRed de Bibliotecas de Arrecife
URL:https://lauraescuela.com/agenda/bebecuentos-arrecife-facebook/
ATTACH;FMTTYPE=image/jpeg:https://lauraescuela.com/wp-content/uploads/2020/06/WhatsApp-Image-2020-06-01-at-13.08.49.jpeg
END:VEVENT
END:VCALENDAR