BEGIN:VCALENDAR
VERSION:2.0
PRODID:-//Laura Escuela - ECPv5.3.0//NONSGML v1.0//EN
CALSCALE:GREGORIAN
METHOD:PUBLISH
X-WR-CALNAME:Laura Escuela
X-ORIGINAL-URL:https://lauraescuela.com
X-WR-CALDESC:Eventos para Laura Escuela
BEGIN:VTIMEZONE
TZID:UTC
BEGIN:STANDARD
TZOFFSETFROM:+0000
TZOFFSETTO:+0000
TZNAME:UTC
DTSTART:20190101T000000
END:STANDARD
END:VTIMEZONE
BEGIN:VEVENT
DTSTART;TZID=UTC:20190906T173000
DTEND;TZID=UTC:20190906T183000
DTSTAMP:20260421T083750
CREATED:20190801T084354Z
LAST-MODIFIED:20190801T085846Z
UID:2575-1567791000-1567794600@lauraescuela.com
SUMMARY:Bebecuentos en Añaza
DESCRIPTION:Sesión de Bebecuentos “EN EL JARDÍN”.   El césped lo llena todo y un mundo de flores de colores y olores\, abejas que vuelan y orugas que reptan se despliega ante nuestros ojos. En esta sesión contaremos y cantaremos en un jardín de lo más particular. 
URL:https://lauraescuela.com/agenda/bebecuentos-en-anaza/
LOCATION:Biblioteca Municipal José Saramgo\, Rambla Añaza\, s/n\,\, Añaza\, Santa Cruz de Tenerife\, 38111\, España
ATTACH;FMTTYPE=image/jpeg:https://lauraescuela.com/wp-content/uploads/2019/08/Laura_Bebecuentos_Añaza_06_sept-002.jpg
END:VEVENT
END:VCALENDAR