BEGIN:VCALENDAR
VERSION:2.0
PRODID:-//Laura Escuela - ECPv5.3.0//NONSGML v1.0//EN
CALSCALE:GREGORIAN
METHOD:PUBLISH
X-WR-CALNAME:Laura Escuela
X-ORIGINAL-URL:https://lauraescuela.com
X-WR-CALDESC:Eventos para Laura Escuela
BEGIN:VTIMEZONE
TZID:UTC
BEGIN:STANDARD
TZOFFSETFROM:+0000
TZOFFSETTO:+0000
TZNAME:UTC
DTSTART:20240101T000000
END:STANDARD
END:VTIMEZONE
BEGIN:VEVENT
DTSTART;TZID=UTC:20240321T080000
DTEND;TZID=UTC:20240321T170000
DTSTAMP:20260424T155248
CREATED:20240225T183157Z
LAST-MODIFIED:20240307T123454Z
UID:5398-1711008000-1711040400@lauraescuela.com
SUMMARY:Bebecuentos en Lanzarote
DESCRIPTION:Sesión de Bebecuentos en Tías\, Lanzarote\, parte del programa de Marzo del Festival Palabras al vuelo \n\n\n\n\n\n\n\nToda la información del Festival y el resto de la programación\, AQUÍ: https://palabrasalvuelo.com/programa-marzo-2024/
URL:https://lauraescuela.com/agenda/bebecuentos-en-lanzarote/
END:VEVENT
END:VCALENDAR