BEGIN:VCALENDAR
VERSION:2.0
PRODID:-//Laura Escuela - ECPv5.3.0//NONSGML v1.0//EN
CALSCALE:GREGORIAN
METHOD:PUBLISH
X-WR-CALNAME:Laura Escuela
X-ORIGINAL-URL:https://lauraescuela.com
X-WR-CALDESC:Eventos para Laura Escuela
BEGIN:VTIMEZONE
TZID:UTC
BEGIN:STANDARD
TZOFFSETFROM:+0000
TZOFFSETTO:+0000
TZNAME:UTC
DTSTART:20190101T000000
END:STANDARD
END:VTIMEZONE
BEGIN:VEVENT
DTSTART;TZID=UTC:20190921T170000
DTEND;TZID=UTC:20190921T173000
DTSTAMP:20260421T100600
CREATED:20190807T120422Z
LAST-MODIFIED:20190807T120423Z
UID:2622-1569085200-1569087000@lauraescuela.com
SUMMARY:Bebecuentos en SIAM MALL
DESCRIPTION:Sesión de Bebecuentos EN EL JARDÍN en SIAM MALL dentro de su programación “SIAM KIDS”. No requiere inscripción.
URL:https://lauraescuela.com/agenda/bebecuentos-en-siam-mall/
LOCATION:SIAM MALL\, Av. Siam\, 3\, Costa Adeje\, 38670\, España
ATTACH;FMTTYPE=image/jpeg:https://lauraescuela.com/wp-content/uploads/2019/08/siam.jpg
END:VEVENT
END:VCALENDAR