BEGIN:VCALENDAR
VERSION:2.0
PRODID:-//Laura Escuela - ECPv5.3.0//NONSGML v1.0//EN
CALSCALE:GREGORIAN
METHOD:PUBLISH
X-WR-CALNAME:Laura Escuela
X-ORIGINAL-URL:https://lauraescuela.com
X-WR-CALDESC:Eventos para Laura Escuela
BEGIN:VTIMEZONE
TZID:UTC
BEGIN:STANDARD
TZOFFSETFROM:+0000
TZOFFSETTO:+0000
TZNAME:UTC
DTSTART:20190101T000000
END:STANDARD
END:VTIMEZONE
BEGIN:VEVENT
DTSTART;TZID=UTC:20191218T053000
DTEND;TZID=UTC:20191218T183000
DTSTAMP:20260421T022606
CREATED:20191127T141525Z
LAST-MODIFIED:20191127T141527Z
UID:3001-1576647000-1576693800@lauraescuela.com
SUMMARY:Bebecuentos Fundación Cajacanarias La Laguna
DESCRIPTION:Sesión de Bebecuentos “AL VUELO”. Inscripciones en la web el día 4 de diciembre.
URL:https://lauraescuela.com/agenda/bebecuentos-fundacion-cajacanarias-la-laguna/
LOCATION:Fundación Cajacanarias\, La Laguna\, Plaza del Adelantado\, La Laguna\, Estados Unidos
END:VEVENT
END:VCALENDAR