BEGIN:VCALENDAR
VERSION:2.0
PRODID:-//Laura Escuela - ECPv5.3.0//NONSGML v1.0//EN
CALSCALE:GREGORIAN
METHOD:PUBLISH
X-WR-CALNAME:Laura Escuela
X-ORIGINAL-URL:https://lauraescuela.com
X-WR-CALDESC:Eventos para Laura Escuela
BEGIN:VTIMEZONE
TZID:UTC
BEGIN:STANDARD
TZOFFSETFROM:+0000
TZOFFSETTO:+0000
TZNAME:UTC
DTSTART:20220101T000000
END:STANDARD
END:VTIMEZONE
BEGIN:VEVENT
DTSTART;TZID=UTC:20220916T053000
DTEND;TZID=UTC:20220916T183000
DTSTAMP:20260424T090328
CREATED:20220828T165256Z
LAST-MODIFIED:20220828T165257Z
UID:4446-1663306200-1663353000@lauraescuela.com
SUMMARY:Bebecuentos La Laguna
DESCRIPTION:INSCRIPCIONES ABIERTAS 1 DE SEPTIEMBRE A LAS 9H
URL:https://lauraescuela.com/agenda/bebecuentos-la-laguna-23/
LOCATION:Biblioteca Municipal de La Laguna\, Calle Juan de Vera\, 9\, La Laguna\, 38201\, España
ATTACH;FMTTYPE=image/png:https://lauraescuela.com/wp-content/uploads/2022/08/20220826_085537_0000.png
END:VEVENT
END:VCALENDAR