BEGIN:VCALENDAR
VERSION:2.0
PRODID:-//Laura Escuela - ECPv5.3.0//NONSGML v1.0//EN
CALSCALE:GREGORIAN
METHOD:PUBLISH
X-WR-CALNAME:Laura Escuela
X-ORIGINAL-URL:https://lauraescuela.com
X-WR-CALDESC:Eventos para Laura Escuela
BEGIN:VTIMEZONE
TZID:UTC
BEGIN:STANDARD
TZOFFSETFROM:+0000
TZOFFSETTO:+0000
TZNAME:UTC
DTSTART:20200101T000000
END:STANDARD
END:VTIMEZONE
BEGIN:VEVENT
DTSTART;TZID=UTC:20200130T173000
DTEND;TZID=UTC:20200130T183000
DTSTAMP:20260419T165100
CREATED:20191222T113838Z
LAST-MODIFIED:20191222T113840Z
UID:3032-1580405400-1580409000@lauraescuela.com
SUMMARY:Bebecuentos La Laguna
DESCRIPTION:Sesión de Bebecuentos RETAHÍLA en la Biblioteca Municipal de La Laguna. \n\n\n\nINSCRIPCIONES EN EL 922 25 99 40 A PARTIR DEL 13 DE ENERO A LAS 9H
URL:https://lauraescuela.com/agenda/bebecuentos-la-laguna-4/
LOCATION:Biblioteca Municipal de La Laguna\, Calle Juan de Vera\, 9\, La Laguna\, 38201\, España
END:VEVENT
END:VCALENDAR