BEGIN:VCALENDAR
VERSION:2.0
PRODID:-//Laura Escuela - ECPv5.3.0//NONSGML v1.0//EN
CALSCALE:GREGORIAN
METHOD:PUBLISH
X-WR-CALNAME:Laura Escuela
X-ORIGINAL-URL:https://lauraescuela.com
X-WR-CALDESC:Eventos para Laura Escuela
BEGIN:VTIMEZONE
TZID:UTC
BEGIN:STANDARD
TZOFFSETFROM:+0000
TZOFFSETTO:+0000
TZNAME:UTC
DTSTART:20200101T000000
END:STANDARD
END:VTIMEZONE
BEGIN:VEVENT
DTSTART;TZID=UTC:20201116T170000
DTEND;TZID=UTC:20201116T180000
DTSTAMP:20260419T212501
CREATED:20201102T115714Z
LAST-MODIFIED:20201102T115715Z
UID:3500-1605546000-1605549600@lauraescuela.com
SUMMARY:Bebecuentos La Laguna
DESCRIPTION:Más información próximamente
URL:https://lauraescuela.com/agenda/bebecuentos-la-laguna-5/
END:VEVENT
END:VCALENDAR