BEGIN:VCALENDAR
VERSION:2.0
PRODID:-//Laura Escuela - ECPv5.3.0//NONSGML v1.0//EN
CALSCALE:GREGORIAN
METHOD:PUBLISH
X-WR-CALNAME:Laura Escuela
X-ORIGINAL-URL:https://lauraescuela.com
X-WR-CALDESC:Eventos para Laura Escuela
BEGIN:VTIMEZONE
TZID:UTC
BEGIN:STANDARD
TZOFFSETFROM:+0000
TZOFFSETTO:+0000
TZNAME:UTC
DTSTART:20200101T000000
END:STANDARD
END:VTIMEZONE
BEGIN:VEVENT
DTSTART;TZID=UTC:20201203T053000
DTEND;TZID=UTC:20201203T180000
DTSTAMP:20260420T130352
CREATED:20201130T120427Z
LAST-MODIFIED:20201130T122541Z
UID:3539-1606973400-1607018400@lauraescuela.com
SUMMARY:Story Time Baby La Laguna
DESCRIPTION:
URL:https://lauraescuela.com/agenda/bebecuentos-la-laguna-7/
LOCATION:Biblioteca Municipal de La Laguna\, Calle Juan de Vera\, 9\, La Laguna\, 38201\, España
ATTACH;FMTTYPE=image/png:https://lauraescuela.com/wp-content/uploads/2020/11/3-1.png
END:VEVENT
END:VCALENDAR