BEGIN:VCALENDAR
VERSION:2.0
PRODID:-//Laura Escuela - ECPv5.3.0//NONSGML v1.0//EN
CALSCALE:GREGORIAN
METHOD:PUBLISH
X-WR-CALNAME:Laura Escuela
X-ORIGINAL-URL:https://lauraescuela.com
X-WR-CALDESC:Eventos para Laura Escuela
BEGIN:VTIMEZONE
TZID:UTC
BEGIN:STANDARD
TZOFFSETFROM:+0000
TZOFFSETTO:+0000
TZNAME:UTC
DTSTART:20200101T000000
END:STANDARD
END:VTIMEZONE
BEGIN:VEVENT
DTSTART;TZID=UTC:20201019T180000
DTEND;TZID=UTC:20201019T190000
DTSTAMP:20260420T081611
CREATED:20200920T111913Z
LAST-MODIFIED:20201013T110335Z
UID:3416-1603130400-1603134000@lauraescuela.com
SUMMARY:Bebecuentos (Pr) La Esperanza
DESCRIPTION:Sesión de Bebecuentos presencial en la Biblioteca Municipal de La Esperanza.  \n\n\n\n\n\n\n\nMás información y teléfono de inscripción en el cartel
URL:https://lauraescuela.com/agenda/bebecuentos-pr-la-esperanza/
LOCATION:Biblioteca de La Esperanza\, Calle Amilcar Gonzalez Diaz\, 4\, La Esperanza\, 38290\, Estados Unidos
ATTACH;FMTTYPE=image/jpeg:https://lauraescuela.com/wp-content/uploads/2020/10/WhatsApp-Image-2020-10-13-at-09.47.23.jpeg
END:VEVENT
END:VCALENDAR