BEGIN:VCALENDAR
VERSION:2.0
PRODID:-//Laura Escuela - ECPv5.3.0//NONSGML v1.0//EN
CALSCALE:GREGORIAN
METHOD:PUBLISH
X-WR-CALNAME:Laura Escuela
X-ORIGINAL-URL:https://lauraescuela.com
X-WR-CALDESC:Eventos para Laura Escuela
BEGIN:VTIMEZONE
TZID:UTC
BEGIN:STANDARD
TZOFFSETFROM:+0000
TZOFFSETTO:+0000
TZNAME:UTC
DTSTART:20200101T000000
END:STANDARD
END:VTIMEZONE
BEGIN:VEVENT
DTSTART;TZID=UTC:20201029T173000
DTEND;TZID=UTC:20201029T183000
DTSTAMP:20260419T183353
CREATED:20200920T112212Z
LAST-MODIFIED:20201020T073407Z
UID:3420-1603992600-1603996200@lauraescuela.com
SUMMARY:Bebecuentos (Pr) La Laguna
DESCRIPTION:Sesión de Bebecuentos presencial en la Biblioteca Municipal de La Laguna. Más información e inscripciones en cartel
URL:https://lauraescuela.com/agenda/bebecuentos-pr-la-laguna-4/
LOCATION:Biblioteca Municipal de La Laguna\, Calle Juan de Vera\, 9\, La Laguna\, 38201\, España
ATTACH;FMTTYPE=image/jpeg:https://lauraescuela.com/wp-content/uploads/2020/10/jardín-1.jpg
END:VEVENT
END:VCALENDAR