BEGIN:VCALENDAR
VERSION:2.0
PRODID:-//Laura Escuela - ECPv5.3.0//NONSGML v1.0//EN
CALSCALE:GREGORIAN
METHOD:PUBLISH
X-WR-CALNAME:Laura Escuela
X-ORIGINAL-URL:https://lauraescuela.com
X-WR-CALDESC:Eventos para Laura Escuela
BEGIN:VTIMEZONE
TZID:UTC
BEGIN:STANDARD
TZOFFSETFROM:+0000
TZOFFSETTO:+0000
TZNAME:UTC
DTSTART:20200101T000000
END:STANDARD
END:VTIMEZONE
BEGIN:VEVENT
DTSTART;TZID=UTC:20201020T080000
DTEND;TZID=UTC:20201020T170000
DTSTAMP:20260420T062939
CREATED:20201003T095909Z
LAST-MODIFIED:20201013T112505Z
UID:3434-1603180800-1603213200@lauraescuela.com
SUMMARY:Bebecuentos (Pr) TEA 2 sesiones
DESCRIPTION:2 sesiones de Bebecuentos “En el jardín”.  \n\n\n\n\n\n\n\nA las 17h y a las 18:15h. \n\n\n\nMás información y cartel pronto
URL:https://lauraescuela.com/agenda/bebecuentos-pr-tea-2-sesiones/
LOCATION:Biblioteca Municipal Central (TEA)\, Fuente Morales\, s/n\, Santa Cruz de Tenerife\, 38003\, España
ATTACH;FMTTYPE=image/jpeg:https://lauraescuela.com/wp-content/uploads/2020/10/Facebook_BBCC_Central_20201020.jpg
END:VEVENT
END:VCALENDAR