BEGIN:VCALENDAR
VERSION:2.0
PRODID:-//Laura Escuela - ECPv5.3.0//NONSGML v1.0//EN
CALSCALE:GREGORIAN
METHOD:PUBLISH
X-WR-CALNAME:Laura Escuela
X-ORIGINAL-URL:https://lauraescuela.com
X-WR-CALDESC:Eventos para Laura Escuela
BEGIN:VTIMEZONE
TZID:UTC
BEGIN:STANDARD
TZOFFSETFROM:+0000
TZOFFSETTO:+0000
TZNAME:UTC
DTSTART:20200101T000000
END:STANDARD
END:VTIMEZONE
BEGIN:VEVENT
DTSTART;TZID=UTC:20201025T113000
DTEND;TZID=UTC:20201025T123000
DTSTAMP:20260420T001903
CREATED:20201003T100219Z
LAST-MODIFIED:20201020T071745Z
UID:3438-1603625400-1603629000@lauraescuela.com
SUMMARY:Bebecuentos (Pr) Vilaflor
DESCRIPTION:Sesión de Bebecuentos “En el jardín”. Más información sobre lugar e inscripciones en el cartel
URL:https://lauraescuela.com/agenda/bebecuentos-pr-vilaflor/
ATTACH;FMTTYPE=image/jpeg:https://lauraescuela.com/wp-content/uploads/2020/10/WhatsApp-Image-2020-10-16-at-14.25.32.jpeg
END:VEVENT
END:VCALENDAR