BEGIN:VCALENDAR
VERSION:2.0
PRODID:-//Laura Escuela - ECPv5.3.0//NONSGML v1.0//EN
CALSCALE:GREGORIAN
METHOD:PUBLISH
X-WR-CALNAME:Laura Escuela
X-ORIGINAL-URL:https://lauraescuela.com
X-WR-CALDESC:Eventos para Laura Escuela
BEGIN:VTIMEZONE
TZID:UTC
BEGIN:STANDARD
TZOFFSETFROM:+0000
TZOFFSETTO:+0000
TZNAME:UTC
DTSTART:20220101T000000
END:STANDARD
END:VTIMEZONE
BEGIN:VEVENT
DTSTART;TZID=UTC:20220906T180000
DTEND;TZID=UTC:20220906T180000
DTSTAMP:20260419T181237
CREATED:20220825T132432Z
LAST-MODIFIED:20220830T105046Z
UID:4431-1662487200-1662487200@lauraescuela.com
SUMMARY:Bebecuentos Tabaiba
DESCRIPTION:Sesión “EN LA CHARCA” en la Biblioteca de Tabaiba\, El Rosario.  \n\n\n\nInscripciones abiertas
URL:https://lauraescuela.com/agenda/bebecuentos-tabaiba-4/
ATTACH;FMTTYPE=image/jpeg:https://lauraescuela.com/wp-content/uploads/2022/08/Screenshot_20220829-211916_Instagram.jpg
END:VEVENT
END:VCALENDAR