BEGIN:VCALENDAR
VERSION:2.0
PRODID:-//Laura Escuela - ECPv5.3.0//NONSGML v1.0//EN
CALSCALE:GREGORIAN
METHOD:PUBLISH
X-WR-CALNAME:Laura Escuela
X-ORIGINAL-URL:https://lauraescuela.com
X-WR-CALDESC:Eventos para Laura Escuela
BEGIN:VTIMEZONE
TZID:UTC
BEGIN:STANDARD
TZOFFSETFROM:+0000
TZOFFSETTO:+0000
TZNAME:UTC
DTSTART:20230101T000000
END:STANDARD
END:VTIMEZONE
BEGIN:VEVENT
DTSTART;TZID=UTC:20230411T080000
DTEND;TZID=UTC:20230411T170000
DTSTAMP:20260420T155113
CREATED:20230330T185010Z
LAST-MODIFIED:20230330T185011Z
UID:4979-1681200000-1681232400@lauraescuela.com
SUMMARY:Bebecuentos Tabaiba (Completo)
DESCRIPTION:Sesión de recuperación de esta sesión que se canceló en Marzo.
URL:https://lauraescuela.com/agenda/bebecuentos-tabaiba-completo/
END:VEVENT
END:VCALENDAR