BEGIN:VCALENDAR
VERSION:2.0
PRODID:-//Laura Escuela - ECPv5.3.0//NONSGML v1.0//EN
CALSCALE:GREGORIAN
METHOD:PUBLISH
X-WR-CALNAME:Laura Escuela
X-ORIGINAL-URL:https://lauraescuela.com
X-WR-CALDESC:Eventos para Laura Escuela
BEGIN:VTIMEZONE
TZID:UTC
BEGIN:STANDARD
TZOFFSETFROM:+0000
TZOFFSETTO:+0000
TZNAME:UTC
DTSTART:20210101T000000
END:STANDARD
END:VTIMEZONE
BEGIN:VEVENT
DTSTART;TZID=UTC:20210216T180000
DTEND;TZID=UTC:20210216T180000
DTSTAMP:20260420T223306
CREATED:20210203T100743Z
LAST-MODIFIED:20210210T101053Z
UID:3611-1613498400-1613498400@lauraescuela.com
SUMMARY:Bebecuentos Tabaiba
DESCRIPTION:
URL:https://lauraescuela.com/agenda/bebecuentos-tabaiba/
ATTACH;FMTTYPE=image/jpeg:https://lauraescuela.com/wp-content/uploads/2021/02/BBC-TAAIBA.jpg
END:VEVENT
END:VCALENDAR