BEGIN:VCALENDAR
VERSION:2.0
PRODID:-//Laura Escuela - ECPv5.3.0//NONSGML v1.0//EN
CALSCALE:GREGORIAN
METHOD:PUBLISH
X-WR-CALNAME:Laura Escuela
X-ORIGINAL-URL:https://lauraescuela.com
X-WR-CALDESC:Eventos para Laura Escuela
BEGIN:VTIMEZONE
TZID:UTC
BEGIN:STANDARD
TZOFFSETFROM:+0000
TZOFFSETTO:+0000
TZNAME:UTC
DTSTART:20220101T000000
END:STANDARD
END:VTIMEZONE
BEGIN:VEVENT
DTSTART;TZID=UTC:20220908T170000
DTEND;TZID=UTC:20220908T180000
DTSTAMP:20260423T090849
CREATED:20220825T133538Z
LAST-MODIFIED:20220905T080013Z
UID:4442-1662656400-1662660000@lauraescuela.com
SUMMARY:Bebecuentos AÑAZA
DESCRIPTION:Sesión de Bebecuentos “EN LA CHARCA”. Más información sobre inscripciones PRONTO.
URL:https://lauraescuela.com/agenda/bebecuentos-tea-7/
LOCATION:Biblioteca Municipal Central (TEA)\, Fuente Morales\, s/n\, Santa Cruz de Tenerife\, 38003\, España
ATTACH;FMTTYPE=image/png:https://lauraescuela.com/wp-content/uploads/2022/09/Facebook-laura-bebes-8-sept-anaza.png
END:VEVENT
END:VCALENDAR