BEGIN:VCALENDAR
VERSION:2.0
PRODID:-//Laura Escuela - ECPv5.3.0//NONSGML v1.0//EN
CALSCALE:GREGORIAN
METHOD:PUBLISH
X-WR-CALNAME:Laura Escuela
X-ORIGINAL-URL:https://lauraescuela.com
X-WR-CALDESC:Eventos para Laura Escuela
BEGIN:VTIMEZONE
TZID:UTC
BEGIN:STANDARD
TZOFFSETFROM:+0000
TZOFFSETTO:+0000
TZNAME:UTC
DTSTART:20220101T000000
END:STANDARD
END:VTIMEZONE
BEGIN:VEVENT
DTSTART;TZID=UTC:20221001T110000
DTEND;TZID=UTC:20221001T120000
DTSTAMP:20260423T090854
CREATED:20220825T140406Z
LAST-MODIFIED:20220922T075228Z
UID:4467-1664622000-1664625600@lauraescuela.com
SUMMARY:Bebecuentos Vilaflor
DESCRIPTION:Sesión de Bebecuentos ALAMAR en la Biblioteca Municipal de Vilaflor.
URL:https://lauraescuela.com/agenda/bebecuentos-vilaflor/
ATTACH;FMTTYPE=image/png:https://lauraescuela.com/wp-content/uploads/2022/09/story-time-10.png
END:VEVENT
END:VCALENDAR