BEGIN:VCALENDAR
VERSION:2.0
PRODID:-//Laura Escuela - ECPv5.3.0//NONSGML v1.0//EN
CALSCALE:GREGORIAN
METHOD:PUBLISH
X-WR-CALNAME:Laura Escuela
X-ORIGINAL-URL:https://lauraescuela.com
X-WR-CALDESC:Eventos para Laura Escuela
BEGIN:VTIMEZONE
TZID:UTC
BEGIN:STANDARD
TZOFFSETFROM:+0000
TZOFFSETTO:+0000
TZNAME:UTC
DTSTART:20220101T000000
END:STANDARD
END:VTIMEZONE
BEGIN:VEVENT
DTSTART;TZID=UTC:20220409T110000
DTEND;TZID=UTC:20220409T110000
DTSTAMP:20260424T115001
CREATED:20220329T084936Z
LAST-MODIFIED:20220401T112950Z
UID:4206-1649502000-1649502000@lauraescuela.com
SUMMARY:Bebecuentos y Cuentos en familia en CANDELARIA
DESCRIPTION:Bebecuentos “AL MERCADO” 10:30H (6 a 36 meses) \n\n\n\nSesión de cuentos para público familiar “LO QUE LA TATA CUENTA” 12H (+ 3 años) \n\n\n\nINSCRIPCIONES ABIERTAS: 922 500 530
URL:https://lauraescuela.com/agenda/bebecuentos-y-cuentos-en-familia-en-candelaria/
ATTACH;FMTTYPE=image/jpeg:https://lauraescuela.com/wp-content/uploads/2022/04/Screenshot_20220401-122222_PDF-Reader.jpg
END:VEVENT
END:VCALENDAR