BEGIN:VCALENDAR
VERSION:2.0
PRODID:-//Laura Escuela - ECPv5.3.0//NONSGML v1.0//EN
CALSCALE:GREGORIAN
METHOD:PUBLISH
X-WR-CALNAME:Laura Escuela
X-ORIGINAL-URL:https://lauraescuela.com
X-WR-CALDESC:Eventos para Laura Escuela
BEGIN:VTIMEZONE
TZID:UTC
BEGIN:STANDARD
TZOFFSETFROM:+0000
TZOFFSETTO:+0000
TZNAME:UTC
DTSTART:20240101T000000
END:STANDARD
END:VTIMEZONE
BEGIN:VEVENT
DTSTART;TZID=UTC:20240525T080000
DTEND;TZID=UTC:20240525T170000
DTSTAMP:20260420T110624
CREATED:20240518T153433Z
LAST-MODIFIED:20240518T153435Z
UID:5472-1716624000-1716656400@lauraescuela.com
SUMMARY:Bebecuentos y Pequecuentos en Candelaria
DESCRIPTION:
URL:https://lauraescuela.com/agenda/bebecuentos-y-pequecuentos-en-candelaria-10/
END:VEVENT
END:VCALENDAR