BEGIN:VCALENDAR
VERSION:2.0
PRODID:-//Laura Escuela - ECPv5.3.0//NONSGML v1.0//EN
CALSCALE:GREGORIAN
METHOD:PUBLISH
X-WR-CALNAME:Laura Escuela
X-ORIGINAL-URL:https://lauraescuela.com
X-WR-CALDESC:Eventos para Laura Escuela
BEGIN:VTIMEZONE
TZID:UTC
BEGIN:STANDARD
TZOFFSETFROM:+0000
TZOFFSETTO:+0000
TZNAME:UTC
DTSTART:20220101T000000
END:STANDARD
END:VTIMEZONE
BEGIN:VEVENT
DTSTART;TZID=UTC:20220917T103000
DTEND;TZID=UTC:20220917T103000
DTSTAMP:20260420T110522
CREATED:20220825T135158Z
LAST-MODIFIED:20220902T194150Z
UID:4454-1663410600-1663410600@lauraescuela.com
SUMMARY:Bebecuentos y Pequecuentos en Candelaria
DESCRIPTION:BEBECUENTOS \n\n\n\nALAMAR\, con Laura Escuela \n\n\n\nSinopsis: A la mar fui por naranjas\, cosa que la mar no tiene. Mi mamá se fue a la mar. Al amar.En esta sesión ambientada en el mar nadaremos en el agua\, saludaremos a los peces\, saltaremos olas\, pescaremos con red y con pandorga. Y cantaremos. ¡Cantaremos! \n\n\n\nPara familias con bebés hasta 36 meses \n\n\n\n \n\n\n\nPEQUECUENTOS \n\n\n\nENTRE ÁRBOLES\, con Laura Escuela \n\n\n\nSinopsis: En el bosque suceden las mejores historias: lobos hambrientos\,  cerdos perdidos\, conejos extraños… En esta sesión de cuentos y música los vamos a conocer.  \n\n\n\nSesión de cuentos para familias con niños y niñas a partir de 3 años
URL:https://lauraescuela.com/agenda/bebecuentos-y-pequecuentos-en-candelaria-4/
ATTACH;FMTTYPE=image/jpeg:https://lauraescuela.com/wp-content/uploads/2022/09/Screenshot_20220902-203815_PDF-Reader.jpg
END:VEVENT
END:VCALENDAR