BEGIN:VCALENDAR
VERSION:2.0
PRODID:-//Laura Escuela - ECPv5.3.0//NONSGML v1.0//EN
CALSCALE:GREGORIAN
METHOD:PUBLISH
X-WR-CALNAME:Laura Escuela
X-ORIGINAL-URL:https://lauraescuela.com
X-WR-CALDESC:Eventos para Laura Escuela
BEGIN:VTIMEZONE
TZID:UTC
BEGIN:STANDARD
TZOFFSETFROM:+0000
TZOFFSETTO:+0000
TZNAME:UTC
DTSTART:20210101T000000
END:STANDARD
END:VTIMEZONE
BEGIN:VEVENT
DTSTART;TZID=UTC:20210417T080000
DTEND;TZID=UTC:20210417T223000
DTSTAMP:20260421T145444
CREATED:20210401T130609Z
LAST-MODIFIED:20210401T130611Z
UID:3708-1618646400-1618698600@lauraescuela.com
SUMMARY:Bebecuentos y Pequecuentos en Candelaria
DESCRIPTION:Sesión de Bebecuentos “En la charca” \n\n\n\nSesión de Pequecuentos “En el bosque” \n\n\n\nAmbas en el Centro Cultural La Villa\, Candelaria.  \n\n\n\nInformación de inscripciones en cartel:
URL:https://lauraescuela.com/agenda/bebecuentos-y-pequecuentos-en-candelaria/
ATTACH;FMTTYPE=image/jpeg:https://lauraescuela.com/wp-content/uploads/2021/04/WhatsApp-Image-2021-04-01-at-13.15.57.jpeg
END:VEVENT
END:VCALENDAR