BEGIN:VCALENDAR
VERSION:2.0
PRODID:-//Laura Escuela - ECPv5.3.0//NONSGML v1.0//EN
CALSCALE:GREGORIAN
METHOD:PUBLISH
X-WR-CALNAME:Laura Escuela
X-ORIGINAL-URL:https://lauraescuela.com
X-WR-CALDESC:Eventos para Laura Escuela
BEGIN:VTIMEZONE
TZID:UTC
BEGIN:STANDARD
TZOFFSETFROM:+0000
TZOFFSETTO:+0000
TZNAME:UTC
DTSTART:20250101T000000
END:STANDARD
END:VTIMEZONE
BEGIN:VEVENT
DTSTART;TZID=UTC:20250405T080000
DTEND;TZID=UTC:20250405T170000
DTSTAMP:20260424T015343
CREATED:20250327T121645Z
LAST-MODIFIED:20250327T121648Z
UID:5699-1743840000-1743872400@lauraescuela.com
SUMMARY:Bebés y familiar en Feria del Libro de Telde\, GC
DESCRIPTION:Sesión para bebés a las 11H y sesión familiar “ENTRE ÁRBOLES” a las 17:00H
URL:https://lauraescuela.com/agenda/bebes-y-familiar-en-feria-del-libro-de-telde-gc/
END:VEVENT
END:VCALENDAR