BEGIN:VCALENDAR
VERSION:2.0
PRODID:-//Laura Escuela - ECPv5.3.0//NONSGML v1.0//EN
CALSCALE:GREGORIAN
METHOD:PUBLISH
X-WR-CALNAME:Laura Escuela
X-ORIGINAL-URL:https://lauraescuela.com
X-WR-CALDESC:Eventos para Laura Escuela
BEGIN:VTIMEZONE
TZID:UTC
BEGIN:STANDARD
TZOFFSETFROM:+0000
TZOFFSETTO:+0000
TZNAME:UTC
DTSTART:20220101T000000
END:STANDARD
END:VTIMEZONE
BEGIN:VEVENT
DTSTART;TZID=UTC:20220830T100000
DTEND;TZID=UTC:20220830T100000
DTSTAMP:20260419T223600
CREATED:20220725T082134Z
LAST-MODIFIED:20220725T083458Z
UID:4412-1661853600-1661853600@lauraescuela.com
SUMMARY:Bebeteca Arafo
DESCRIPTION:Sesión de Bebecuentos en Inglés dentro del programa de Bebeteca de verano del municipio de Arafo
URL:https://lauraescuela.com/agenda/bebeteca-arafo-3/
END:VEVENT
END:VCALENDAR