BEGIN:VCALENDAR
VERSION:2.0
PRODID:-//Laura Escuela - ECPv5.3.0//NONSGML v1.0//EN
CALSCALE:GREGORIAN
METHOD:PUBLISH
X-WR-CALNAME:Laura Escuela
X-ORIGINAL-URL:https://lauraescuela.com
X-WR-CALDESC:Eventos para Laura Escuela
BEGIN:VTIMEZONE
TZID:UTC
BEGIN:STANDARD
TZOFFSETFROM:+0000
TZOFFSETTO:+0000
TZNAME:UTC
DTSTART:20220101T000000
END:STANDARD
END:VTIMEZONE
BEGIN:VEVENT
DTSTART;TZID=UTC:20220816T100000
DTEND;TZID=UTC:20220816T100000
DTSTAMP:20260424T135456
CREATED:20220725T082048Z
LAST-MODIFIED:20220725T083544Z
UID:4408-1660644000-1660644000@lauraescuela.com
SUMMARY:Bebeteca Arafo
DESCRIPTION:Sesión de Bebecuentos EN LA CHARCA dentro del programa de Bebeteca de verano del municipio de Arafo
URL:https://lauraescuela.com/agenda/bebeteca-arafo/
END:VEVENT
END:VCALENDAR