BEGIN:VCALENDAR
VERSION:2.0
PRODID:-//Laura Escuela - ECPv5.3.0//NONSGML v1.0//EN
CALSCALE:GREGORIAN
METHOD:PUBLISH
X-WR-CALNAME:Laura Escuela
X-ORIGINAL-URL:https://lauraescuela.com
X-WR-CALDESC:Eventos para Laura Escuela
BEGIN:VTIMEZONE
TZID:UTC
BEGIN:STANDARD
TZOFFSETFROM:+0000
TZOFFSETTO:+0000
TZNAME:UTC
DTSTART:20250101T000000
END:STANDARD
END:VTIMEZONE
BEGIN:VEVENT
DTSTART;TZID=UTC:20250122T080000
DTEND;TZID=UTC:20250122T170000
DTSTAMP:20260422T001524
CREATED:20250119T132650Z
LAST-MODIFIED:20250119T132651Z
UID:5674-1737532800-1737565200@lauraescuela.com
SUMMARY:Casas de luz en Valsequillo\, Gran Canaria
DESCRIPTION:
URL:https://lauraescuela.com/agenda/casas-de-luz-en-valsequillo-gran-canaria-2/
END:VEVENT
END:VCALENDAR