BEGIN:VCALENDAR
VERSION:2.0
PRODID:-//Laura Escuela - ECPv5.3.0//NONSGML v1.0//EN
CALSCALE:GREGORIAN
METHOD:PUBLISH
X-WR-CALNAME:Laura Escuela
X-ORIGINAL-URL:https://lauraescuela.com
X-WR-CALDESC:Eventos para Laura Escuela
BEGIN:VTIMEZONE
TZID:UTC
BEGIN:STANDARD
TZOFFSETFROM:+0000
TZOFFSETTO:+0000
TZNAME:UTC
DTSTART:20220101T000000
END:STANDARD
END:VTIMEZONE
BEGIN:VEVENT
DTSTART;TZID=UTC:20220901T120000
DTEND;TZID=UTC:20220901T120000
DTSTAMP:20260419T180840
CREATED:20220830T105310Z
LAST-MODIFIED:20220830T105311Z
UID:4477-1662033600-1662033600@lauraescuela.com
SUMMARY:#Cómolocuento
DESCRIPTION:
URL:https://lauraescuela.com/agenda/comolocuento/
END:VEVENT
END:VCALENDAR