BEGIN:VCALENDAR
VERSION:2.0
PRODID:-//Laura Escuela - ECPv5.3.0//NONSGML v1.0//EN
CALSCALE:GREGORIAN
METHOD:PUBLISH
X-WR-CALNAME:Laura Escuela
X-ORIGINAL-URL:https://lauraescuela.com
X-WR-CALDESC:Eventos para Laura Escuela
BEGIN:VTIMEZONE
TZID:UTC
BEGIN:STANDARD
TZOFFSETFROM:+0000
TZOFFSETTO:+0000
TZNAME:UTC
DTSTART:20190101T000000
END:STANDARD
END:VTIMEZONE
BEGIN:VEVENT
DTSTART;TZID=UTC:20191008T080000
DTEND;TZID=UTC:20191009T170000
DTSTAMP:20260421T144316
CREATED:20190923T172751Z
LAST-MODIFIED:20190923T172753Z
UID:2743-1570521600-1570640400@lauraescuela.com
SUMMARY:Congreso SANTIAGO DE CHILE
DESCRIPTION:Participación con la ponencia “Bebecuentos en Tenerife: Narración Oral y Libros para bebés” en el I Congreso Internacional de Lectura y Primera Infancia en Santiago de Chile. Con el patrocinio de CANARIAS CREA.
URL:https://lauraescuela.com/agenda/congreso-santiago-de-chile/
ATTACH;FMTTYPE=image/png:https://lauraescuela.com/wp-content/uploads/2019/09/Participación-en-el.png
END:VEVENT
END:VCALENDAR