BEGIN:VCALENDAR
VERSION:2.0
PRODID:-//Laura Escuela - ECPv5.3.0//NONSGML v1.0//EN
CALSCALE:GREGORIAN
METHOD:PUBLISH
X-WR-CALNAME:Laura Escuela
X-ORIGINAL-URL:https://lauraescuela.com
X-WR-CALDESC:Eventos para Laura Escuela
BEGIN:VTIMEZONE
TZID:UTC
BEGIN:STANDARD
TZOFFSETFROM:+0000
TZOFFSETTO:+0000
TZNAME:UTC
DTSTART:20200101T000000
END:STANDARD
END:VTIMEZONE
BEGIN:VEVENT
DTSTART;TZID=UTC:20200608T190000
DTEND;TZID=UTC:20200608T200000
DTSTAMP:20260419T195012
CREATED:20200529T171620Z
LAST-MODIFIED:20200603T112540Z
UID:3305-1591642800-1591646400@lauraescuela.com
SUMMARY:Contar para sobrevivir
DESCRIPTION:Charla online con la narradora alicantina Raquel López sobre Contar para sobrevivir. El cuento mediterráneo. Casa del Mediterráneo.
URL:https://lauraescuela.com/agenda/contar-para-sobrevivir/
ATTACH;FMTTYPE=image/jpeg:https://lauraescuela.com/wp-content/uploads/2020/06/WhatsApp-Image-2020-06-03-at-10.35.04.jpeg
END:VEVENT
END:VCALENDAR