BEGIN:VCALENDAR
VERSION:2.0
PRODID:-//Laura Escuela - ECPv5.3.0//NONSGML v1.0//EN
CALSCALE:GREGORIAN
METHOD:PUBLISH
X-WR-CALNAME:Laura Escuela
X-ORIGINAL-URL:https://lauraescuela.com
X-WR-CALDESC:Eventos para Laura Escuela
BEGIN:VTIMEZONE
TZID:UTC
BEGIN:STANDARD
TZOFFSETFROM:+0000
TZOFFSETTO:+0000
TZNAME:UTC
DTSTART:20230101T000000
END:STANDARD
END:VTIMEZONE
BEGIN:VEVENT
DTSTART;TZID=UTC:20231119T120000
DTEND;TZID=UTC:20231119T120000
DTSTAMP:20260421T131030
CREATED:20231031T140551Z
LAST-MODIFIED:20231031T140553Z
UID:5323-1700395200-1700395200@lauraescuela.com
SUMMARY:Contata para piano en Santa Úrsula
DESCRIPTION:Espectáculo de cuentos y música dirigido especialmente a niños y niñas de 3 a 7 años.
URL:https://lauraescuela.com/agenda/contata-para-piano-en-santa-ursula/
END:VEVENT
END:VCALENDAR