BEGIN:VCALENDAR
VERSION:2.0
PRODID:-//Laura Escuela - ECPv5.3.0//NONSGML v1.0//EN
CALSCALE:GREGORIAN
METHOD:PUBLISH
X-WR-CALNAME:Laura Escuela
X-ORIGINAL-URL:https://lauraescuela.com
X-WR-CALDESC:Eventos para Laura Escuela
BEGIN:VTIMEZONE
TZID:UTC
BEGIN:STANDARD
TZOFFSETFROM:+0000
TZOFFSETTO:+0000
TZNAME:UTC
DTSTART:20200101T000000
END:STANDARD
END:VTIMEZONE
BEGIN:VEVENT
DTSTART;TZID=UTC:20200123T080000
DTEND;TZID=UTC:20200123T210000
DTSTAMP:20260419T235903
CREATED:20191222T115219Z
LAST-MODIFIED:20191222T115221Z
UID:3054-1579766400-1579813200@lauraescuela.com
SUMMARY:CUENTA TU CUENTO. Centros escolares
DESCRIPTION:Realización de las primeras visitas a las aulas de diferentes centros escolares dentro del proyecto CUENTA TU CUENTO\, PIALTE\, TENERIFE EDUCA.
URL:https://lauraescuela.com/agenda/cuenta-tu-cuento-centros-escolares-5/
END:VEVENT
END:VCALENDAR