BEGIN:VCALENDAR
VERSION:2.0
PRODID:-//Laura Escuela - ECPv5.3.0//NONSGML v1.0//EN
CALSCALE:GREGORIAN
METHOD:PUBLISH
X-WR-CALNAME:Laura Escuela
X-ORIGINAL-URL:https://lauraescuela.com
X-WR-CALDESC:Eventos para Laura Escuela
BEGIN:VTIMEZONE
TZID:UTC
BEGIN:STANDARD
TZOFFSETFROM:+0000
TZOFFSETTO:+0000
TZNAME:UTC
DTSTART:20250101T000000
END:STANDARD
END:VTIMEZONE
BEGIN:VEVENT
DTSTART;TZID=UTC:20251110T173000
DTEND;TZID=UTC:20251110T183000
DTSTAMP:20260423T153140
CREATED:20251031T130703Z
LAST-MODIFIED:20251031T130705Z
UID:5819-1762795800-1762799400@lauraescuela.com
SUMMARY:Cuentos del mundo en Biblioteca La Laguna
DESCRIPTION:Sesión de cuentos tradicionales para mayores de 8 años en la Biblioteca Municipal de La Laguna.
URL:https://lauraescuela.com/agenda/cuentos-del-mundo-en-biblioteca-la-laguna/
END:VEVENT
END:VCALENDAR