BEGIN:VCALENDAR
VERSION:2.0
PRODID:-//Laura Escuela - ECPv5.3.0//NONSGML v1.0//EN
CALSCALE:GREGORIAN
METHOD:PUBLISH
X-WR-CALNAME:Laura Escuela
X-ORIGINAL-URL:https://lauraescuela.com
X-WR-CALDESC:Eventos para Laura Escuela
BEGIN:VTIMEZONE
TZID:UTC
BEGIN:STANDARD
TZOFFSETFROM:+0000
TZOFFSETTO:+0000
TZNAME:UTC
DTSTART:20210101T000000
END:STANDARD
END:VTIMEZONE
BEGIN:VEVENT
DTSTART;TZID=UTC:20210416T080000
DTEND;TZID=UTC:20210416T183000
DTSTAMP:20260421T163115
CREATED:20210401T130354Z
LAST-MODIFIED:20210401T130356Z
UID:3706-1618560000-1618597800@lauraescuela.com
SUMMARY:Cuentos en Clave de Sol en Santiago del Teide
DESCRIPTION:Sesión para público familiar\, “Cuentos en clave de Sol” en el Centro cultural de Arguayo\, Santiago del Teide.
URL:https://lauraescuela.com/agenda/cuentos-en-clave-de-sol-en-santiago-del-teide/
END:VEVENT
END:VCALENDAR