BEGIN:VCALENDAR
VERSION:2.0
PRODID:-//Laura Escuela - ECPv5.3.0//NONSGML v1.0//EN
CALSCALE:GREGORIAN
METHOD:PUBLISH
X-WR-CALNAME:Laura Escuela
X-ORIGINAL-URL:https://lauraescuela.com
X-WR-CALDESC:Eventos para Laura Escuela
BEGIN:VTIMEZONE
TZID:UTC
BEGIN:STANDARD
TZOFFSETFROM:+0000
TZOFFSETTO:+0000
TZNAME:UTC
DTSTART:20210101T000000
END:STANDARD
END:VTIMEZONE
BEGIN:VEVENT
DTSTART;TZID=UTC:20210424T080000
DTEND;TZID=UTC:20210424T230000
DTSTAMP:20260419T133023
CREATED:20210401T130939Z
LAST-MODIFIED:20210407T071858Z
UID:3715-1619251200-1619305200@lauraescuela.com
SUMMARY:Cuentos para bebés y familiar en Arafo
DESCRIPTION:Más información próximamente
URL:https://lauraescuela.com/agenda/cuentos-para-bebes-y-familiar-en-arafo/
ATTACH;FMTTYPE=image/png:https://lauraescuela.com/wp-content/uploads/2021/04/BEBECUENTOS-3.png
END:VEVENT
END:VCALENDAR