BEGIN:VCALENDAR
VERSION:2.0
PRODID:-//Laura Escuela - ECPv5.3.0//NONSGML v1.0//EN
CALSCALE:GREGORIAN
METHOD:PUBLISH
X-WR-CALNAME:Laura Escuela
X-ORIGINAL-URL:https://lauraescuela.com
X-WR-CALDESC:Eventos para Laura Escuela
BEGIN:VTIMEZONE
TZID:UTC
BEGIN:STANDARD
TZOFFSETFROM:+0000
TZOFFSETTO:+0000
TZNAME:UTC
DTSTART:20240101T000000
END:STANDARD
END:VTIMEZONE
BEGIN:VEVENT
DTSTART;TZID=UTC:20240928T170000
DTEND;TZID=UTC:20240928T180000
DTSTAMP:20260420T110726
CREATED:20240924T104343Z
LAST-MODIFIED:20240924T104344Z
UID:5600-1727542800-1727546400@lauraescuela.com
SUMMARY:Cuentos para público familiar en Club Náutico Bajamar
DESCRIPTION:
URL:https://lauraescuela.com/agenda/cuentos-para-publico-familiar-en-club-nautico-bajamar/
END:VEVENT
END:VCALENDAR