BEGIN:VCALENDAR
VERSION:2.0
PRODID:-//Laura Escuela - ECPv5.3.0//NONSGML v1.0//EN
CALSCALE:GREGORIAN
METHOD:PUBLISH
X-WR-CALNAME:Laura Escuela
X-ORIGINAL-URL:https://lauraescuela.com
X-WR-CALDESC:Eventos para Laura Escuela
BEGIN:VTIMEZONE
TZID:UTC
BEGIN:STANDARD
TZOFFSETFROM:+0000
TZOFFSETTO:+0000
TZNAME:UTC
DTSTART:20210101T000000
END:STANDARD
END:VTIMEZONE
BEGIN:VEVENT
DTSTART;TZID=UTC:20211113T000000
DTEND;TZID=UTC:20211113T000000
DTSTAMP:20260423T104842
CREATED:20211029T200723Z
LAST-MODIFIED:20211029T200724Z
UID:3983-1636761600-1636761600@lauraescuela.com
SUMMARY:Cuentos para público familiar en Garachico
DESCRIPTION:Sesión de cuentos para público familiar en la Fundación Cajacanarias de Garachico.  \n\n\n\nEntrada libre hasta completar aforo. Retirada de invitaciones 30 min antes del evento.
URL:https://lauraescuela.com/agenda/cuentos-para-publico-familiar-en-garachico/
END:VEVENT
END:VCALENDAR