BEGIN:VCALENDAR
VERSION:2.0
PRODID:-//Laura Escuela - ECPv5.3.0//NONSGML v1.0//EN
CALSCALE:GREGORIAN
METHOD:PUBLISH
X-WR-CALNAME:Laura Escuela
X-ORIGINAL-URL:https://lauraescuela.com
X-WR-CALDESC:Eventos para Laura Escuela
BEGIN:VTIMEZONE
TZID:UTC
BEGIN:STANDARD
TZOFFSETFROM:+0000
TZOFFSETTO:+0000
TZNAME:UTC
DTSTART:20200101T000000
END:STANDARD
END:VTIMEZONE
BEGIN:VEVENT
DTSTART;TZID=UTC:20201211T053000
DTEND;TZID=UTC:20201211T180000
DTSTAMP:20260425T103648
CREATED:20201130T121213Z
LAST-MODIFIED:20201210T124431Z
UID:3548-1607664600-1607709600@lauraescuela.com
SUMMARY:CANCELADA. Cuentos público familiar ADEJE.
DESCRIPTION:
URL:https://lauraescuela.com/agenda/cuentos-publico-familiar-adeje/
LOCATION:Biblioteca Municipal de Adeje\, Calle Universidad de la Laguna\, 18\, Adeje\, 38670\, España
ATTACH;FMTTYPE=image/jpeg:https://lauraescuela.com/wp-content/uploads/2020/11/Cuent_Inviernos-DIC-20-1.jpg
END:VEVENT
END:VCALENDAR